BEGIN:VCALENDAR
PRODID:-//Google Inc//Google Calendar 70.9054//EN
VERSION:2.0
CALSCALE:GREGORIAN
METHOD:REQUEST
BEGIN:VEVENT
DTSTART:20091105T043000Z
DTEND:20091105T093000Z
DTSTAMP:20091022T064303Z
ORGANIZER;CN=Citizen Gold:mailto:gold@freelancers.net.nz
UID:geddrgrm37lespcp8uhpksura4@google.com
ATTENDEE;CUTYPE=INDIVIDUAL;ROLE=REQ-PARTICIPANT;PARTSTAT=NEEDS-ACTION;RSVP=
 TRUE;CN=nzskeptics@yahoogroups.com;X-NUM-GUESTS=0:mailto:nzskeptics@yahoogr
 oups.com
ATTENDEE;CUTYPE=INDIVIDUAL;ROLE=REQ-PARTICIPANT;PARTSTAT=ACCEPTED;RSVP=TRUE
 ;CN=Citizen Gold;X-NUM-GUESTS=0:mailto:gold@freelancers.net.nz
CREATED:20091022T064302Z
DESCRIPTION:Announcing a new Meetup for Christchurch Skeptics in the Pub!\n
 \nWhat: Tuesday NZSitP Meetup\n\nWhen: November 3\, 2009 5:30 PM\n\nWhere:\
 nThe Twisted Hop\n6 Poplar Street\nChristchurch\n+64339623688\n\nThe next C
 hristchurch fortnightly meetup is on a Tuesday.\n\nFor this meetup I'd like
  to talk about possible formats and potential segments for the podcast.\n\n
 If anyone else has anything they'd like to discuss let me know and I'll upd
 ate this description.\n\nLearn more here:\nhttp://christchurch.skepticsinth
 epub.net.nz/calendar/11684667/\n\nExperimenting a little here.  Gmail allow
 s you to create an event in the Compose Message screen.  This integrates se
 amlessly with Google Calendar.  I'm curious to see if it sends an iCal atta
 chment though.  This should be able to be imported into any decent calendar
  application.  I'd be interested in feedback.  Is it useful\, annoying\, no
 t for you (but easily ignored)?\n\n-- \nRegards\nGold\nEvolved Development 
                                      +64 21 248-4653\nhttp://evolved.net.nz
 /                               gold@evolved.net.nz\n\n\nView your event at
  http://www.google.com/calendar/event?action=VIEW&ueid=geddrgrm37lespcp8uhp
 ksura4.
LAST-MODIFIED:20091022T064302Z
LOCATION:6 Poplar Street\,Christchurch\,New Zealand(The Twisted Hop)
SEQUENCE:0
STATUS:CONFIRMED
SUMMARY:Christchurch Skeptics in the Pub!
TRANSP:OPAQUE
END:VEVENT
END:VCALENDAR
